Workbook
Name matlist: [1]Plan!$A$142:$A$153

Sheet загрузка Т 
A2: № п/п | B2: Подстанция | C2: Мощность сил. тран-ра, кВА | D2: Загрузка по выданным ТУ, кВт
A3: Осакаровский РЭС
A4: 1 | B4: Ишимская | C4: 10000 | D4: ='[2]Технические условия'!$L$176 -> 12580.41
A5: 2 | B5: Заря | C5: 6300 | D5: ='[3]Технические условия'!$L$40 -> 1028.34
A6: 3 | B6: Центральная | C6: 2500 | D6: ='[4]Технические условия'!$L$87 -> 2372.65
A7: 4 | B7: Красный Кут | C7: 1600 | D7: ='[82]Технические условия'!$L$69 -> 7850.64
A8: 5 | B8: Рассвет | C8: 1600 | D8: ='[5]Технические условия'!$L$52 -> 1225.37
A9: 6 | B9: Морозовка | C9: 1600 | D9: ='[6]Технические условия'!$L$26 -> 502.64
A10: 7 | B10: Октябрьская | C10: 1600 | D10: ='[7]Технические условия'!$L$112 -> 1040.6
A11: 8 | B11: Крестовка | C11: 1000 | D11: ='[8]Технические условия'!$L$11 -> 85.6
A12: 9 | B12: Темиртауская | C12: 4000 | D12: ='[9]Технические условия'!$L$80 -> 1465.65
A13: 10 | B13: Николаевка | C13: 1600 | D13: ='[10]Технические условия'!$L$53 -> 790.45
A14: 11 | B14: Батпак | C14: 1600 | D14: ='[11]Технические условия'!$L$74 -> 4446.59
A15: 12 | B15: Передовик | C15: 1600 | D15: ='[12]Технические условия'!$L$40 -> 461.6
A16: 13 | B16: Богучар | C16: 1000 | D16: ='[13]Технические условия'!$L$26 -> 1032.37
A17: Молодежный РЭС
A18: 1 | B18: НС 19 | C18: 63000 | D18: ='[14]Технические условия'!$L$7 -> 79702
A19: 2 | B19: Трудовая | C19: 10000 | D19: ='[15]Технические условия'!$L$96 -> 3451
A20: 3 | B20: НПС Трудовая | C20: 10000 | D20: =[16]Лист2!$L$8 -> 91
A21: 4 | B21: Тельмана | C21: 1000 | D21: ='[17]Технические условия'!$L$36 -> 1052
A22: 5 | B22: Дальняя | C22: 1600 | D22: ='[18]Технические условия'!$L$37 -> 2807.72
A23: 6 | B23: Вольск | C23: 1600 | D23: ='[19]Технические условия'!$L$45 -> 767.62
A24: 7 | B24: Шидерты | C24: 1000 | D24: ='[20]Технические условия'!$L$14 -> 543.3
A25: 8 | B25: Родниковская | C25: 1600 | D25: ='[21]Технические условия'!$L$56 -> 1686.3
A26: 9 | B26: Молодёжная | C26: 6300 | D26: ='[22]Технические условия'!$L$92 -> 5933.64
A27: 10 | B27: Шокай-2 | C27: 630 | D27: ='[23]Технические условия'!$L$11 -> 127
A28: 11 | B28: Мирная | C28: 1600 | D28: ='[24]Технические условия'!$L$36 -> 817.2
A29: 12 | B29: Звезда | C29: 1600 | D29: ='[25]Технические условия'!$L$16 -> 896.5
A30: 13 | B30: Казахстан | C30: 1000 | D30: ='[26]Технические условия'!$L$20 -> 385.56
A31: 14 | B31: Весна | C31: 4000 | D31: ='[27]Технические условия'!$L$40 -> 2796.21
A32: Нуринский район
A33: 1 | B33: Киевка | C33: 16000 | D33: =[28]ТУ!$L$448 -> 15642.63
A34: 2 | B34: Казгородок | C34: 10000 | D34: ='[29]Технические условия'!$L$66 -> 1022.52
A35: 3 | B35: Черниговка | C35: 10000 | D35: ='[30]Технические условия'!$L$68 -> 1009.81
A36: 4 | B36: Трудовик | C36: 1600 | D36: ='[31]Технические условия'!$L$4 -> 2114.85
A37: 5 | B37: Щербаковская | C37: 1000 | D37: ='[32]Технические условия'!$L$70 -> 1594.85
A38: 6 | B38: Донская | C38: 1600 | D38: ='[33]Технические условия'!$L$19 -> 443.25
A39: 7 | B39: Заречная | C39: 1600 | D39: =[34]Лист2!$L$125 -> 1867.6
A40: 8 | B40: Урожайная | C40: 1600 | D40: ='[35]Технические условия'!$L$83 -> 1435.08
A41: 9 | B41: Пржевальская | C41: 1800 | D41: ='[36]Технические условия'!$L$41 -> 965.2
A42: 10 | B42: Энтузиаст | C42: 1600 | D42: ='[37]Технические условия'!$L$106 -> 3693.65
A43: 11 | B43: Шахтер | C43: 2500 | D43: ='[38]Технические условия'!$L$40 -> 6875.09
A44: 12 | B44: 17 лет Октября | C44: 630 | D44: =[39]Лист2!$L$26 -> 399.75
A45: 13 | B45: Полетаева | C45: 1000 | D45: ='[40]Технические условия'!$L$46 -> 1207.74
A46: 14 | B46: Индустриальная | C46: 1600 | D46: ='[41]Технические условия'!$L$58 -> 1716.35
A47: 15 | B47: Париж.коммуна | C47: 1000 | D47: ='[42]Технические условия'!$L$29 -> 1146.48
A48: 16 | B48: Нуринская | C48: 1000 | D48: ='[43]Технические условия'!$L$7 -> 51
A49: 17 | B49: Куйбышева | C49: 2500 | D49: ='[44]Технические условия'!$L$42 -> 3123.2
A50: 18 | B50: Новокарповка | C50: 1000 | D50: ='[45]Технические условия'!$L$72 -> 714.86
A51: Тенгизский участок
A52: 1 | B52: Баршино | C52: 10000 | D52: ='[46]Технические условия'!$L$27 -> 1186.36
A53: 2 | B53: Шубарколь | C53: 25000 | D53: ='[47]Технические условия'!$L$29 -> 47825.4
A54: 3 | B54: Талдысай | C54: 2500 | D54: ='[48]Технические условия'!$L$11 -> 96
A55: 4 | B55: Соналы | C55: 2500 | D55: ='[49]Технические условия'!$L$13 -> 178.23
A56: 5 | B56: Кулан | C56: 1600 | D56: ='[50]Технические условия'!$L$10 -> 158.24
A57: 6 | B57: Жанбобек | C57: 1000 | D57: ='[51]Технические условия'!$L$17 -> 249.87
A58: 7 | B58: Аршаты | C58: 1000 | D58: ='[52]Технические условия'!$L$7 -> 134.43
A59: 8 | B59: Сары-Узень | C59: 1000 | D59: ='[53]Технические условия'!$L$7 -> 100.2
A60: Абайский район
A61: 1 | B61: Самарка | C61: 1600 | D61: ='[54]Технические условия'!$N$91 -> 2505.53
A62: 2 | B62: Акбастау | C62: 2500 | D62: ='[55]Технические условия'!$L$45 -> 1641.782
A63: 3 | B63: Коксунская | C63: 2500 | D63: ='[56]Технические условия'!$L$40 -> 3150.42
A64: 4 | B64: Путь Ильича | C64: 2500 | D64: ='[57]Технические условия'!$L$98 -> 2442.045
A65: 5 | B65: Бородиновка | C65: 1600 | D65: ='[58]Технические условия'!$L$7 -> 32.2
A66: 6 | B66: Жумабек | C66: 2500 | D66: ='[59]Технические условия'!$L$85 -> 10040.15
A67: 7 | B67: Карагандинская | C67: 4000 | D67: =[60]ТУ!$L$267 -> 7403.37
A68: 8 | B68: Есенгельда | C68: 1600 | D68: ='[61]Технические условия'!$L$43 -> 2842.86
A69: 9 | B69: Репродуктор | C69: 2500 | D69: ='[62]Технические условия'!$L$98 -> 11080
A70: Егиндыбулакский район
A71: 1 | B71: Егиндыбулак | C71: 6300 | D71: ='[63]Технические условия'!$L$120 -> 2422.04
A72: 2 | B72: Комсомольская | C72: 1000 | D72: ='[64]Технические условия'!$L$47 -> 625.37
A73: 3 | B73: 40 лет Казахстана | C73: 1000 | D73: ='[65]Технические условия'!$L$27 -> 471.81
A74: 4 | B74: Коянды | C74: 1000 | D74: ='[66]2073'!$L$9 -> 128.92
A75: 5 | B75: Абай | C75: 1600 | D75: ='[67]Технические условия'!$L$14 -> 140.52
A76: 6 | B76: Осибай | C76: 1000 | D76: ='[68]Технические условия'!$L$19 -> 268.98
A77: 7 | B77: Айрык | C77: 1000 | D77: ='[69]Технические условия'!$L$9 -> 606.17
A78: 8 | B78: Аркалык | C78: 1000 | D78: ='[70]Технические условия'!$L$17 -> 799.72
A79: Каркаралинский район
A80: 1 | B80: Восток | C80: 4000 | D80: ='[71]Технические условия'!$L$47 -> 6307.4
A81: 2 | B81: Первомайская | C81: 1000 | D81: ='[72]Технические условия'!$L$27 -> 842.92
A82: 3 | B82: Бесоба | C82: 1000 | D82: ='[73]Технические условия'!$L$37 -> 612.69
A83: 4 | B83: Бейбетшилик | C83: 1000 | D83: ='[74]Технические условия'!$L$18 -> 197.39
A84: 5 | B84: Киргизия | C84: 4000 | D84: ='[75]Технические условия'!$L$40 -> 1877.79
A85: 6 | B85: Прогресс | C85: 1000 | D85: ='[76]Технические условия'!$L$18 -> 306.52
A86: 7 | B86: Татан | C86: 3200 | D86: ='[77]Технические условия'!$L$37 -> 1627.44
A87: 8 | B87: Бидаик | C87: 630 | D87: ='[78]Технические условия'!$L$5 -> 148.9
A88: 9 | B88: Джамбул | C88: 1000 | D88: ='[79]Технические условия'!$L$26 -> 487.92
A89: 10 | B89: Фрунзе | C89: 1000 | D89: ='[80]Технические условия'!$L$44 -> 651.42
A90: 11 | B90: Сары-Обалы | C90: 560 | D90: ='[81]Технические условия'!$L$21 -> 362.92
A92: Данные о свободной мощности не являются исчерпывающими (функционал в разработке). Для получения полной информации о пропускной способности сети, необходим расчет у специалистов ТОО "КРЭК"

Sheet Лист1
