Workbook
Name matlist: [1]Plan!$A$142:$A$153

Sheet загрузка Т 
A2: № п/п | B2: Подстанция | C2: Мощность сил. тран-ра, кВА | D2: Загрузка по выданным ТУ, кВт
A3: Осакаровский РЭС
A4: 1 | B4: Ишимская | C4: 10000 | D4: ='[2]Технические условия'!$L$176 -> 12580.41
A5: 2 | B5: Заря | C5: 6300 | D5: ='[3]Технические условия'!$L$40 -> 1028.34
A6: 3 | B6: Центральная | C6: 2500 | D6: ='[4]Технические условия'!$L$87 -> 2372.65
A7: 4 | B7: Красный Кут | C7: 1600 | D7: ='[82]Технические условия'!$L$69 -> 7850.64
A8: 5 | B8: Рассвет | C8: 1600 | D8: ='[5]Технические условия'!$L$52 -> 1225.37
A9: 6 | B9: Морозовка | C9: 1600 | D9: ='[6]Технические условия'!$L$26 -> 502.64
A10: 7 | B10: Октябрьская | C10: 1600 | D10: ='[7]Технические условия'!$L$112 -> 1040.6
A11: 8 | B11: Крестовка | C11: 1000 | D11: ='[8]Технические условия'!$L$11 -> 85.6
A12: 9 | B12: Темиртауская | C12: 4000 | D12: ='[9]Технические условия'!$L$80 -> 1465.65
A13: 10 | B13: Николаевка | C13: 1600 | D13: ='[10]Технические условия'!$L$53 -> 790.45
A14: 11 | B14: Батпак | C14: 1600 | D14: ='[11]Технические условия'!$L$74 -> 4446.59
A15: 12 | B15: Передовик | C15: 1600 | D15: ='[12]Технические условия'!$L$40 -> 461.6
A16: 13 | B16: Богучар | C16: 1000 | D16: ='[13]Технические условия'!$L$26 -> 1032.37
A17: Молодежный РЭС
A18: 1 | B18: НС 19 | C18: 63000 | D18: ='[14]Технические условия'!$L$7 -> 79702
A19: 2 | B19: Трудовая | C19: 10000 | D19: ='[15]Технические условия'!$L$96 -> 3451
A20: 3 | B20: НПС Трудовая | C20: 10000 | D20: =[16]Лист2!$L$8 -> 91
A21: 4 | B21: Тельмана | C21: 1000 | D21: ='[17]Технические условия'!$L$36 -> 1052
A22: 5 | B22: Дальняя | C22: 1600 | D22: ='[18]Технические условия'!$L$37 -> 2807.72
A23: 6 | B23: Вольск | C23: 1600 | D23: ='[19]Технические условия'!$L$45 -> 767.62
A24: 7 | B24: Шидерты | C24: 1000 | D24: ='[20]Технические условия'!$L$14 -> 543.3
A25: 8 | B25: Родниковская | C25: 1600 | D25: ='[21]Технические условия'!$L$56 -> 1686.3
A26: 9 | B26: Молодёжная | C26: 6300 | D26: ='[22]Технические условия'!$L$92 -> 5933.64
A27: 10 | B27: Шокай-2 | C27: 630 | D27: ='[23]Технические условия'!$L$11 -> 127
A28: 11 | B28: Мирная | C28: 1600 | D28: ='[24]Технические условия'!$L$36 -> 817.2
A29: 12 | B29: Звезда | C29: 1600 | D29: ='[25]Технические условия'!$L$16 -> 896.5
A30: 13 | B30: Казахстан | C30: 1000 | D30: ='[26]Технические условия'!$L$20 -> 385.56
A31: 14 | B31: Весна | C31: 4000 | D31: ='[27]Технические условия'!$L$40 -> 2796.21
A32: Нуринский район
A33: 1 | B33: Киевка | C33: 16000 | D33: =[28]ТУ!$L$448 -> 15642.63
A34: 2 | B34: Казгородок | C34: 10000 | D34: ='[29]Технические условия'!$L$66 -> 1022.52
A35: 3 | B35: Черниговка | C35: 10000 | D35: ='[30]Технические условия'!$L$68 -> 1009.81
A36: 4 | B36: Трудовик | C36: 1600 | D36: ='[31]Технические условия'!$L$4 -> 2114.85
A37: 5 | B37: Щербаковская | C37: 1000 | D37: ='[32]Технические условия'!$L$70 -> 1594.85
A38: 6 | B38: Донская | C38: 1600 | D38: ='[33]Технические условия'!$L$19 -> 443.25
A39: 7 | B39: Заречная | C39: 1600 | D39: =[34]Лист2!$L$125 -> 1867.6
A40: 8 | B40: Урожайная | C40: 1600 | D40: ='[35]Технические условия'!$L$83 -> 1435.08
A41: 9 | B41: Пржевальская | C41: 1800 | D41: ='[36]Технические условия'!$L$41 -> 965.2
...

Sheet Лист1
